BEGIN:VCALENDAR
VERSION:2.0
PRODID:-//CERN//INDICO//EN
BEGIN:VEVENT
SUMMARY:Joint WP3-WP4
DTSTART:20260424T083000Z
DTEND:20260424T160000Z
DTSTAMP:20260424T031900Z
UID:indico-event-1679221@indico.cern.ch
DESCRIPTION:https://infn-it.zoom.us/j/89417678467?pwd=z9Ny3tlTco2qxRjuCO3a
 TzvyzmvvYH.1\n\nhttps://indico.cern.ch/event/1679221/
URL:https://indico.cern.ch/event/1679221/
END:VEVENT
END:VCALENDAR
