BEGIN:VCALENDAR
VERSION:2.0
PRODID:-//CERN//INDICO//EN
BEGIN:VEVENT
SUMMARY:EM-U #46: SME Instrument
DTSTART:20170822T160000Z
DTEND:20170822T170000Z
DTSTAMP:20230922T233444Z
UID:indico-event-659838@indico.cern.ch
DESCRIPTION:Patrick Albert is a professor\, a coach\, a CEO\, and an inves
 tor who throughout all of his positions provides high tech start-ups and S
 MEs with support and network to successfully commercialize their projects.
  At the first EM-U of the season he will present Horizon 2020’s SME Inst
 rument. SME Instrument is a European program offering business support and
  funding to innovative start-ups and SMEs.        \n\nhttps://indico
 .cern.ch/event/659838/
LOCATION:CERN 61/1-007 - Room B
URL:https://indico.cern.ch/event/659838/
END:VEVENT
END:VCALENDAR
