BEGIN:VCALENDAR
VERSION:2.0
PRODID:-//CERN//INDICO//EN
BEGIN:VEVENT
SUMMARY:EM-U #47: Oak V: How to start-up from science
DTSTART:20170905T160000Z
DTEND:20170905T170000Z
DTSTAMP:20230922T233444Z
UID:indico-event-662509@indico.cern.ch
DESCRIPTION:Oak V is a newly founded accelerator in Geneva\, dedicated to 
 support high tech. start-ups. Join us to hear what they have to offer your
  business idea.\n\nhttps://indico.cern.ch/event/662509/
LOCATION:CERN 61/1-007 - Room B
URL:https://indico.cern.ch/event/662509/
END:VEVENT
END:VCALENDAR
