BEGIN:VCALENDAR
VERSION:2.0
PRODID:-//CERN//INDICO//EN
BEGIN:VEVENT
SUMMARY:EM-U #50
DTSTART:20171017T160000Z
DTEND:20171017T190000Z
DTSTAMP:20230922T233453Z
UID:indico-event-664477@indico.cern.ch
DESCRIPTION:The CERN Knowledge Transfer Group is proud to announce the 50t
 h EM-U!\n\nPlease join us to mark 50 sessions and more than two and a half
  years of Entrepreneurship Meet-Ups. Refreshments will be served.\n\nhttps
 ://indico.cern.ch/event/664477/
LOCATION:CERN Restaurant 1
URL:https://indico.cern.ch/event/664477/
END:VEVENT
END:VCALENDAR
