BEGIN:VCALENDAR
VERSION:2.0
PRODID:-//CERN//INDICO//EN
BEGIN:VEVENT
SUMMARY:EM-U #48: Wayfaring: how to innovate at the fuzzy front end
DTSTART:20170919T160000Z
DTEND:20170919T170000Z
DTSTAMP:20230922T233444Z
UID:indico-event-666381@indico.cern.ch
DESCRIPTION:How do you find breakthrough ideas? How do you innovate when e
 verything is uncertain or ‘fuzzy’? Next Tuesday\, Victoria Isern in th
 e Knowledge Transfer group will give a crash course in fuzzy front end pro
 duct development. She will present methods and tools that will help you na
 vigate in the early phases of product development.\n\nhttps://indico.cern.
 ch/event/666381/
LOCATION:CERN 61/1-009 - Room C
URL:https://indico.cern.ch/event/666381/
END:VEVENT
END:VCALENDAR
