BEGIN:VCALENDAR
VERSION:2.0
PRODID:-//CERN//INDICO//EN
BEGIN:VEVENT
SUMMARY:EM-U #49: Fundraising 101
DTSTART:20171003T160000Z
DTEND:20171003T170000Z
DTSTAMP:20230922T233452Z
UID:indico-event-669689@indico.cern.ch
DESCRIPTION:At the next EM-U we will learn from Sofia Papadakaki\, Trust a
 nd Foundations Officer in the CERN Partnerships and Fundraising section. S
 he will give us tips and tricks on identifying donors\, how to plan a fund
 raising approach\, and how to make people believe in your cause.\n\nhttps:
 //indico.cern.ch/event/669689/
LOCATION:CERN 61/1-007 - Room B
URL:https://indico.cern.ch/event/669689/
END:VEVENT
END:VCALENDAR
