BEGIN:VCALENDAR
VERSION:2.0
PRODID:-//CERN//INDICO//EN
BEGIN:VEVENT
SUMMARY:EM-U #51: The Value of Project Management for Entrepreneurs
DTSTART:20171031T171500Z
DTEND:20171031T180000Z
DTSTAMP:20230922T233452Z
UID:indico-event-675215@indico.cern.ch
DESCRIPTION:Developing a functional product or system requires engineering
  skills. Developing it on schedule and on budget requires engineering skil
 ls and project management skills.\n\nThe aim of this EM-U is to make us un
 derstand how project management can be a clever strategy when developing a
  new business. In addition\, our speaker Pierre Bonnal will present a bran
 d new concept\; the CERN Project Management Meet-Up Series.\n\nhttps://ind
 ico.cern.ch/event/675215/
LOCATION:CERN 61/1-007 - Room B
URL:https://indico.cern.ch/event/675215/
END:VEVENT
END:VCALENDAR
