BEGIN:VCALENDAR
VERSION:2.0
PRODID:-//CERN//INDICO//EN
BEGIN:VEVENT
SUMMARY:EM-U #53: From one work life stage to another
DTSTART:20171128T170000Z
DTEND:20171128T180000Z
DTSTAMP:20230922T233458Z
UID:indico-event-678342@indico.cern.ch
DESCRIPTION:After years as a corporate business man\, Johan Franzén decid
 ed to leave one of the world’s largest fast moving consumer goods compan
 ies and create Entnest\, a social network for and by entrepreneurs. What m
 ade him leave the one for the other? What can we learn from his story?\n\n
 https://indico.cern.ch/event/678342/
LOCATION:CERN 61/1-007 - Room B
URL:https://indico.cern.ch/event/678342/
END:VEVENT
END:VCALENDAR
