BEGIN:VCALENDAR
VERSION:2.0
PRODID:-//CERN//INDICO//EN
BEGIN:VEVENT
SUMMARY:EM-U #54: Review and Revise 2017 and 2018
DTSTART:20171212T170000Z
DTEND:20171212T180000Z
DTSTAMP:20230922T233459Z
UID:indico-event-682154@indico.cern.ch
DESCRIPTION:It has been almost three years since we launched the Entrepren
 eurship Meet-Ups\, and since then\, we have hosted more than 50 sessions a
 nd speakers. For the last EM-U of 2017\, we want to take a trip down memor
 y lane and summarise the topics of the year. We also want to\, with your h
 elp\, start planning 2018.\n\nhttps://indico.cern.ch/event/682154/
LOCATION:CERN 61/1-007 - Room B
URL:https://indico.cern.ch/event/682154/
END:VEVENT
END:VCALENDAR
