BEGIN:VCALENDAR
VERSION:2.0
PRODID:-//CERN//INDICO//EN
BEGIN:VEVENT
SUMMARY:EM-U #55: How to succeed as a founder: insights from founding Couc
 hsurfing
DTSTART:20180130T170000Z
DTEND:20180130T180000Z
DTSTAMP:20230922T233457Z
UID:indico-event-694561@indico.cern.ch
DESCRIPTION:We’re honoured to welcome our next EM-U-speaker: Leonardo Ba
 ssani da Silveira. As co-founder and former director of Couchsurfing\, he 
 has gained a lot of experience\, building the business from idea to a glob
 al company. Now\, he wants to use this insight to help more engineers and 
 founders to succeed with their start-ups - and improve the success rate of
  start-up funding as a result. Check out his new project\, aiming to creat
 e a community of science and engineering communicators: https://hackmind.a
 i\n\nWant updates on entrepreneurship at CERN and invites to the next EM-U
 s? Sign up for the mailing list.\n\nhttps://indico.cern.ch/event/694561/
LOCATION:CERN 61/1-007 - Room B
URL:https://indico.cern.ch/event/694561/
END:VEVENT
END:VCALENDAR
