BEGIN:VCALENDAR
VERSION:2.0
PRODID:-//CERN//INDICO//EN
BEGIN:VEVENT
SUMMARY:EM-U #57: Thriving through failures
DTSTART:20180227T170000Z
DTEND:20180227T180000Z
DTSTAMP:20230923T000619Z
UID:indico-event-694758@indico.cern.ch
DESCRIPTION:Life as an entrepreneur can be thrilling\, but also challengin
 g. Through the workshop Thriving Through Failures\, Biliana Vassileva will
  equip you with a new understanding of your capacity to engage with failur
 es. Using an experiential approach\, you will discover how to: reframe you
 r failures\, act upon them\, and move forward in an energising and efficie
 nt manner.\n\nBiliana is an Executive and Organisational Coach for Social 
 Change. Her purpose is to work towards re-imagining the relationships (wit
 h oneself and others) at work for peace\, just and inclusive societies. Cu
 rious to know more? Visit www.bilianavassileva.com\n\nhttps://indico.cern.
 ch/event/694758/
LOCATION:CERN IdeaSquare
URL:https://indico.cern.ch/event/694758/
END:VEVENT
END:VCALENDAR
