BEGIN:VCALENDAR
VERSION:2.0
PRODID:-//CERN//INDICO//EN
BEGIN:VEVENT
SUMMARY:EM-U #56: Supporting the creation of spin-offs at CERN
DTSTART:20180213T170000Z
DTEND:20180213T180000Z
DTSTAMP:20230923T000619Z
UID:indico-event-703890@indico.cern.ch
DESCRIPTION:We are pleased to announce the next EM-U speaker: Myriam Ayass
 \, legal advisor in the CERN Knowledge Transfer group. Myriam will recap t
 he current available framework and present the different measures availabl
 e at CERN to support the creation of spin-offs. And above all\, she will b
 e available to answer your questions related to starting a company in the 
 CERN context.\n\nhttps://indico.cern.ch/event/703890/
LOCATION:CERN IdeaSquare - Building 3179
URL:https://indico.cern.ch/event/703890/
END:VEVENT
END:VCALENDAR
