BEGIN:VCALENDAR
VERSION:2.0
PRODID:-//CERN//INDICO//EN
BEGIN:VEVENT
SUMMARY:EM-U #58: How can the creation of bridges between disciplines boos
 t innovation?
DTSTART:20180313T170000Z
DTEND:20180313T180000Z
DTSTAMP:20230923T000616Z
UID:indico-event-712032@indico.cern.ch
DESCRIPTION:At the upcoming EM-U\, we will address the question of how the
  creation of bridges between disciplines can boost innovation. Adriano Gar
 onna\, co-founder of EBA-Med\, will tell the story of his MedTech start-up
 . The young venture capitalises on the most advanced technology used in ca
 ncer treatments and adapts it to the field of cardiology. More specificall
 y\, proton beams are used for fully non-invasive\, effective and automated
  treatment of heart arrhythmias.\n\nAdriano Garonna worked many years at C
 ERN (as a Fellow and at the TERA Foundation) in the intersection of physic
 s and medicine and after attending several CERN entrepreneurship meet-ups\
 , decided to take his leap of faith. Now\, we are pleased to welcome Garon
 na to share his story.\n\nhttps://indico.cern.ch/event/712032/
LOCATION:CERN IdeaSquare
URL:https://indico.cern.ch/event/712032/
END:VEVENT
END:VCALENDAR
