BEGIN:VCALENDAR
VERSION:2.0
PRODID:-//CERN//INDICO//EN
BEGIN:VEVENT
SUMMARY:EM-U #59: Intellectual Property & Entrepreneurship
DTSTART:20180327T160000Z
DTEND:20180327T170000Z
DTSTAMP:20230923T000627Z
UID:indico-event-714911@indico.cern.ch
DESCRIPTION:We are pleased to introduce our next EM-U speakers: Julie Mond
 on and Gilles Pfend.\n\nIntellectual property (IP) is one of the most valu
 able assets of an innovative startup. Protecting IP is essential for takin
 g a leap ahead of your competitors and obtaining funding from investors. 
 Julie and Gilles will discuss the various existing IP protections and how
  to efficiently develop and manage the elements of an IP asset. Finally\, 
 they will be available to answer questions you may have related to the sub
 ject.\n\nBoth our next EM-U speakers work for KATZAROV\, one of the foremo
 st intellectual property firms in Switzerland - Julie Mondon as a Tradema
 rk Attorney and Gilles Pfend as a Pattent Attorney specialising in pharm
 aceutical\, chemical and biotech inventions. \n\nhttps://indico.cern.ch/e
 vent/714911/
LOCATION:CERN IdeaSquare
URL:https://indico.cern.ch/event/714911/
END:VEVENT
END:VCALENDAR
