BEGIN:VCALENDAR
VERSION:2.0
PRODID:-//CERN//INDICO//EN
BEGIN:VEVENT
SUMMARY:EM-U #61: Do's and don'ts of early stage start-ups – a view from
  the inside
DTSTART:20180508T160000Z
DTEND:20180508T170000Z
DTSTAMP:20230923T000627Z
UID:indico-event-722358@indico.cern.ch
DESCRIPTION:Being part of a start-up is a very exciting journey\, even jus
 t as a team member and not as a founder. And maybe just because of this\, 
 you get the chance to have a more independent perspective on what can help
  your company to grow and what might turn out as a less rewarding outcome.
  At the upcoming meet-up\, Eva Servoli will share her first-hand experienc
 e regarding do’s and don’ts in early-stage and fast growing start-ups\
 , to help you better enjoy the journey.\n\nEva Servoli moved from Philips 
 Research to join a few biotech start-ups in Switzerland. She is now Compan
 y Advisor for Euresearch\, where she supports innovative companies to get 
 access to European funding.\n\nhttps://indico.cern.ch/event/722358/
LOCATION:CERN IdeaSquare
URL:https://indico.cern.ch/event/722358/
END:VEVENT
END:VCALENDAR
