BEGIN:VCALENDAR
VERSION:2.0
PRODID:-//CERN//INDICO//EN
BEGIN:VEVENT
SUMMARY:EM-U #62: Blockchain - Swiss Opportunities
DTSTART:20180522T160000Z
DTEND:20180522T170000Z
DTSTAMP:20230922T233839Z
UID:indico-event-727180@indico.cern.ch
DESCRIPTION:After becoming a global hub in Private Banking and Trading\, S
 witzerland and Geneva specifically are aiming to become world leader in\, 
 and a global hub for\, blockchain related technologies. In 2017\, Switzerl
 and already hosted some of the world largest and most successful ICOs and 
 is now setting up structures to support ventures related to blockchain tec
 hnologies. At the entrepreneurship meet-up #62\, Oak-V and it's partners o
 ffer an overview of the blockchain landscape in Switzerland and Geneva\, i
 nviting for collaboration projects and development opportunities.\n\n \n\
 nOak V is a newly founded company in Geneva\, dedicated to support early 
 stage\, high-tech start-ups. Aiming to become co-founders and entrepreneur
 s in residence in the startups they work with\, and taking ownership as th
 e only compensation\, Oak V may bring in the business experience high-tech
  startups need to carve out a viable business model.\n\nhttps://indico.cer
 n.ch/event/727180/
LOCATION:CERN IdeaSquare
URL:https://indico.cern.ch/event/727180/
END:VEVENT
END:VCALENDAR
