BEGIN:VCALENDAR
VERSION:2.0
PRODID:-//CERN//INDICO//EN
BEGIN:VEVENT
SUMMARY:EM-U #63: Visit ImpactHub Geneva
DTSTART:20180605T160000Z
DTEND:20180605T173000Z
DTSTAMP:20230922T233841Z
UID:indico-event-732287@indico.cern.ch
DESCRIPTION:The next meet-up will indeed be special\, as it will be the fi
 rst one held outside the walls of CERN.\n\nLet's learn more about a key 
 player in the Geneva entrepreneurship ecosystem\, Impact Hub - a commun
 ity of social entrepreneurs\, a co-working space\, an innovation lab and a
  start-up incubator - by visiting their space. Co-founder and Head of Ope
 rations\, Felix Stähli\, will present the Hub\, their mission as well as 
 explaining us the value of such communities. Moreover\, we will get to kn
 ow a handful of the start-ups of ImpactHub.\n\nTo get to ImpactHub\, let's
  take the tram together from CERN at 17.37\, and for this particular meet-
 up\, remember to register through Indico.\n\nAfter the meet-up\, let's go 
 for refreshments in Geneva at Bains des Paquis.\n\nhttps://indico.cern.ch/
 event/732287/
LOCATION:Other Institutes
URL:https://indico.cern.ch/event/732287/
END:VEVENT
END:VCALENDAR
