BEGIN:VCALENDAR
VERSION:2.0
PRODID:-//CERN//INDICO//EN
BEGIN:VEVENT
SUMMARY:EM-U #64: Pitches from the CERN community
DTSTART:20180619T160000Z
DTEND:20180619T170000Z
DTSTAMP:20230922T233842Z
UID:indico-event-733000@indico.cern.ch
DESCRIPTION:EM-U #64 will offer a great chance to hear some start-up proj
 ects and ideas that fellow CERN colleagues are working on\, and to get to 
 know the community better.\n\nSeven people from the CERN Entrepreneurship
  Network will pitch their ideas\, in which there will be a 5 minute pitch
  from each and 5 minutes for questions. The pitching is supposed to be rat
 her informal\, and some of the projects are at the back-of-a-napkin-stage 
 while others are already incorporated.\n\nhttps://indico.cern.ch/event/733
 000/
LOCATION:CERN IdeaSquare
URL:https://indico.cern.ch/event/733000/
END:VEVENT
END:VCALENDAR
