BEGIN:VCALENDAR
VERSION:2.0
PRODID:-//CERN//INDICO//EN
BEGIN:VEVENT
SUMMARY:EM-U #66: Fireside chat with serial entrepreneur whurley
DTSTART:20180828T160000Z
DTEND:20180828T170000Z
DTSTAMP:20230922T233840Z
UID:indico-event-752412@indico.cern.ch
DESCRIPTION:Earlier this year\, whurley had a keynote talk at SXSW about q
 uantum computing - where he also launched his newest company\, Strangewor
 ks. Now we're lucky to host him at CERN to talk about his start-up and qu
 antum computing\, as well as sharing valuable insight about the start-up w
 orld and entrepreneurship.\n\nwhurley has previously founded\, built and s
 old the companies Chaotic Moon and Honest Dollar\, and has (as part of a 
 long interesting list of experience) been managing director of Goldman Sac
 hs and is an official member of Forbes' Technology Council.\n\nGet ready f
 or a sparkling fireside chat!\n \n\nhttps://indico.cern.ch/event/752412/
LOCATION:CERN IdeaSquare
URL:https://indico.cern.ch/event/752412/
END:VEVENT
END:VCALENDAR
