BEGIN:VCALENDAR
VERSION:2.0
PRODID:-//CERN//INDICO//EN
BEGIN:VEVENT
SUMMARY:EM-U #67: SAFETYN’s Human-Centric Approach to Risks: Cross-ferti
 lizing Aviators & Entrepreneurs
DTSTART:20180911T160000Z
DTEND:20180911T170000Z
DTSTAMP:20230922T233827Z
UID:indico-event-755681@indico.cern.ch
DESCRIPTION:“Achieving the impossible”: Bertrand Piccard & André Bors
 chberg were both fully inspired by this mantra throughout their whole “S
 olar Impulse” venture\, and they concretely demonstrated to the World th
 at they could live – and most importantly – act up to their dreams. \n
 \nAs a matter of fact\, SAFETYN would probably have never been created wit
 hout such a pioneering mindset\, combined to a very ambitious objective: D
 rastically reducing fatalities in General Aviation (Light Aircrafts\, Heli
 copters\, Gliders…) to a similar pace recorded in the Automotive sector 
 over the last 30 years\, i.e. TWICE as fast versus General Aviation’s pa
 ce over the same period. While developing these solutions\, SAFETYN Team h
 as drawn some interesting parallels between Entrepreneurs and Aviators –
  so called “Pilots In Command”. SAFETYN CEO and Co-founder\, Arnaud Vi
 olland\, welcome you aboard to discover SAFETYN’s unique Human-Centric A
 pproach to Risks: Cross-fertilising Aviators & Entrepreneurs.\n\nSAFETYN i
 s a Technology startup headquartered at CERN’s French Business Incubator
  Center “INNOGEX”\, developing disruptive Life Preservation Solutions 
 also designed to constantly assist Pilots in refining their Safety Situati
 onal Awareness & Acumen. SAFETYN is accelerated at AIRBUS BizLab (Pitch vi
 deo) and is a member of World Alliance for Efficient Solutions by SOLAR IM
 PULSE Foundation (Solution Overview).\n\nArnaud Violland is co-Founder & C
 EO of SAFETYN and is also the Founder & Managing Partner of GlobAer Partne
 rs\, a consulting firm specializing in Aerospace Innovation. Overall\, Arn
 aud developed a diversified 18-year career experience with Airbus Group\, 
 Honeywell Aerospace\, General Electric\, McKinsey & Company\, Oliver Wyman
 \, Arcelor Mittal\, etc... in a variety of projects ranging from Business 
 Strategy & Transformation\, Programme & Project Management\, Change Manage
 ment\, Operational Strategy & Effectiveness to Disruptive Innovation Manag
 ement. Arnaud holds an Industrial Engineering Master from Ecole Centrale d
 e Lyon\, a Master of Engineering Management from McCormick School of Engin
 eering and a M.B.A. from Kellogg School of Management (Northwestern Univer
 sity in Chicago)/\n\nhttps://indico.cern.ch/event/755681/
LOCATION:CERN IdeaSquare
URL:https://indico.cern.ch/event/755681/
END:VEVENT
END:VCALENDAR
