BEGIN:VCALENDAR
VERSION:2.0
PRODID:-//CERN//INDICO//EN
BEGIN:VEVENT
SUMMARY:EM-U #68: FUSION - Catalysing innovation across startups and corpo
 rates
DTSTART:20180925T160000Z
DTEND:20180925T170000Z
DTSTAMP:20230922T233831Z
UID:indico-event-760191@indico.cern.ch
DESCRIPTION:Laying in the heart of Carouge in Geneva\, FUSION is a Global 
 Innovation Platform working in the intersection of Frontier Tech and Hum
 an Insights. With a mission to fuel operating capital to push ventures t
 o the next level\, and having grown over 40 ventures in less than two yea
 rs\, FUSION is one of the fastest growing incubators in Europe. \n\nFUSIO
 N's recipe is to focus startups and corporations on relevant industry prob
 lems using exponential technologies\, and creating the necessary condition
 s to develop early betas into growth ventures. Three Vertical Accelerators
  serve to leverage such infrastructures and ecosystems within their domain
 s: FinTech\, LifeTech and Proptech & Smart City.\n\nExecutive Director & V
 enture Catalyst of FUSION\, Adela Villanueva\, will tell you more about h
 ow their global platform is designed for innovation efficiency at scale a
 t the EM-U #68. Adela has 13 years of experience working with F500-Corpora
 tions\, Public Sector\, Academia and Start-Ups around the Globe\, and with
  the nerve for making things happen - she has her eyes fixed on FUSION’s
  mission of catalysing innovation.\n\nhttps://indico.cern.ch/event/760191/
LOCATION:CERN IdeaSquare
URL:https://indico.cern.ch/event/760191/
END:VEVENT
END:VCALENDAR
