BEGIN:VCALENDAR
VERSION:2.0
PRODID:-//CERN//INDICO//EN
BEGIN:VEVENT
SUMMARY:EM-U #69: Prototyping in startups: what kind value does different 
 prototypes create?
DTSTART:20181009T160000Z
DTEND:20181009T170000Z
DTSTAMP:20230922T233827Z
UID:indico-event-761332@indico.cern.ch
DESCRIPTION:Prototypes create various different values based on their fide
 lity\, materials and how you test them. Jani Kalasniemi will give you an i
 ntroduction to the value of prototypes and show you real-life examples whe
 re prototypes create different values in different situations and stages.\
 n\nYou may have seen him around IdeaSquare - Jani is working at IdeaSquar
 e at CERN colliding CERN researchers and technologies with international 
 master-level students to tackle social problems and create new meaningful 
 innovations for the future. Jani has a Mechanical Engineering M.Sc. from
  Aalto University with a focus on user-centred product development\, mecha
 tronics\, and leadership. His studies included studies at Stanford Univers
 ity and the European Particle Physics Research Center (CERN). For the pas
 t four years\, Jani has been working with several startup companies develo
 ping their businesses\, new products\, and services for international mark
 ets. \n\nhttps://indico.cern.ch/event/761332/
LOCATION:CERN IdeaSquare 
URL:https://indico.cern.ch/event/761332/
END:VEVENT
END:VCALENDAR
