BEGIN:VCALENDAR
VERSION:2.0
PRODID:-//CERN//INDICO//EN
BEGIN:VEVENT
SUMMARY:EM-U #72: Introduction to the InnoSuisse Business Concept course
DTSTART:20181127T170000Z
DTEND:20181127T180000Z
DTSTAMP:20230922T233558Z
UID:indico-event-776390@indico.cern.ch
DESCRIPTION:Innosuisse\, the Swiss Innovation Agency\, helps you to develo
 p your business idea\, set up your company and implement a strategy for gr
 owth through four training modules. The second of these modules\, the Busi
 ness Concept course aims to give you a start-up toolbox to develop an inno
 vative business idea or a technology-based company - and it teaches you ho
 w to think and act like an entrepreneur.\n\nEvery year\, several participa
 nts come from CERN to further develop their ideas. The module consists of 
 14 full evening sessions\, with expert trainers and experienced entreprene
 urs - focusing on various aspects of starting a venture. The next module s
 tarts in February 2019 in Geneva. Join us for the #72 EM-U to learn more a
 bout the course\, how to apply and what you can get out of it.\n\nMarine F
 avre is the Marketing and Community Manager of EPFL Innovation Park as wel
 l as Incubator Manager for EPFL’s start-up incubator La Forge. As part o
 f her main activities is managing the programme of the InnoSuisse Business
  Concept Course in the Western region of Switzerland.\n\nAs usual\, we wil
 l go for refreshments in the Restaurant 1 of CERN to continue the discussi
 ons after the event.\n\nhttps://indico.cern.ch/event/776390/
LOCATION:CERN IdeaSquare
URL:https://indico.cern.ch/event/776390/
END:VEVENT
END:VCALENDAR
