BEGIN:VCALENDAR
VERSION:2.0
PRODID:-//CERN//INDICO//EN
BEGIN:VEVENT
SUMMARY:EMU #73: A year in rewind - Entrepreneurship activities and achiev
 ements at CERN in 2018
DTSTART:20181211T170000Z
DTEND:20181211T180000Z
DTSTAMP:20230922T233559Z
UID:indico-event-779889@indico.cern.ch
DESCRIPTION:It is time for the very last Entrepreneurship Meet-Up of the t
 he year at CERN - and that provides us with a chance to rewind and look ba
 ck at the year that has past.\n\n2018 has been an exciting year for entrep
 reneurship at CERN. 19 meet-ups\, 2 new entrepreneurship programmes\, 5 ne
 w startups using CERN technology\, a new Business Incubation Centre of CER
 N technologies\, a new official policy at CERN for the creation of Spin-Of
 fs\, and much more.\n\nCome to EM-U #73 to hear more about the year of ent
 repreneurship at CERN\, what we have in store for 2019 and join the discu
 ssion about what we would like to see in the year to come and beyond.\n\n.
 ..and of course\, afterwards we will go to Restaurant 1 of CERN to enjoy a
  final round of refreshments and good conversations to wrap up the year.\n
 \nhttps://indico.cern.ch/event/779889/
LOCATION:CERN IdeaSquare
URL:https://indico.cern.ch/event/779889/
END:VEVENT
END:VCALENDAR
