BEGIN:VCALENDAR
VERSION:2.0
PRODID:-//CERN//INDICO//EN
BEGIN:VEVENT
SUMMARY:EM-U #74: FabLabs – what are they and how can you get involved?
DTSTART:20190115T170000Z
DTEND:20190115T180000Z
DTSTAMP:20230922T233558Z
UID:indico-event-788092@indico.cern.ch
DESCRIPTION:Fab Labs are rapidly spreading around the world and hold promi
 se of changing the way we produce\, consume and share knowledge. But what 
 are Fab Labs and how can they boost the social and technological innovatio
 n of our region ? Which kind of synergies can they establish with startups
  and local business?\n\nA physicist by training\, Cristina Olivotto starte
 d to work in the field of science communication and education during her P
 hD at the University of Milan. In 2017\, she co-founded Onl'Fait\, the fir
 st pedagogical Fab Lab in Geneva.\n\n...and of course\, afterwards we will
  go to Restaurant 1 of CERN to enjoy a round of refreshments and good con
 versations.\n\nhttps://indico.cern.ch/event/788092/
LOCATION:CERN IdeaSquare
URL:https://indico.cern.ch/event/788092/
END:VEVENT
END:VCALENDAR
