BEGIN:VCALENDAR
VERSION:2.0
PRODID:-//CERN//INDICO//EN
BEGIN:VEVENT
SUMMARY:EM-U #75: Building and maintaining relations
DTSTART:20190129T170000Z
DTEND:20190129T180000Z
DTSTAMP:20230922T233549Z
UID:indico-event-793537@indico.cern.ch
DESCRIPTION:Independently of what you’re doing in life\, you rely on oth
 er people in order to succeed. Building and maintaining relations is key i
 n order to achieve about anything - either you’re running a business or 
 collaborating with colleagues (or even friends) on a project. Yet\, this c
 an be so hard and it is also the reason why many projects fail. Despite it
 s importance\, how to succeed when working with other people does not get 
 much attention in the educational system. Often graduates are shocked when
  they start working\, eager to apply what they have learned\, but then fin
 d themselves spending more time on dealing with interpersonal issues in or
 der to reach their goals. \n\nAurelie Pezous is a Knowledge Transfer Offic
 er in the CERN Knowledge Transfer group. Her work consists of making sure 
 that know-how and technologies from CERN are disseminated to other areas i
 n society. She is thus a link between technical experts and outside compan
 ies or institutes\, bridging two sides of often very different worlds. In 
 her current job as well as with her past experience in CSEM as a business 
 developer\, Aurelie has learned that the most important part of her work i
 s to gain trust and to manage the various relations in a good way. During 
 the #75 EM-U Aurelie will share some of her learnings about how to succeed
  with managing these relations.\n\n...and of course\, afterwards we will g
 o to Restaurant 1 of CERN to enjoy a round of refreshments and good conver
 sations.\n\nhttps://indico.cern.ch/event/793537/
LOCATION:CERN IdeaSquare
URL:https://indico.cern.ch/event/793537/
END:VEVENT
END:VCALENDAR
