BEGIN:VCALENDAR
VERSION:2.0
PRODID:-//CERN//INDICO//EN
BEGIN:VEVENT
SUMMARY:EM-U #76: From idea to Innovation with Impact
DTSTART:20190212T170000Z
DTEND:20190212T180000Z
DTSTAMP:20230922T233549Z
UID:indico-event-796994@indico.cern.ch
DESCRIPTION:How do you know if your idea is worth pursuing\, and how do yo
 u shape it in to a successful project?\n\nThese are important questions th
 at guide Geneus in their work. The pre-incubator located at Campus Biotech
  in Geneva focuses on initiating life science innovations in a world-class
  environment. Researchers with great ideas are enabled to bring them to li
 fe through the tools and knowledge Geneus provides\, thus becoming entrepr
 eneurs by building the ideas they believe in.  \n\nLearn how your ideas a
 nd knowledge can create real impact\, be it through a startup\, licensing\
 , or further research.\n\nAbout Ingeborg Albert:\nIngeborg holds an MSc in
  Industrial Design Engineering from the Delft University of Technology (th
 e Netherlands) with a specialization in innovation management. She has lau
 nched and managed new products in a spectrum of industries including FMCG\
 , sports and digital. Ingeborg’s international career spans startups and
  large organisations. At Geneus\, she focuses on initiating life science i
 nnovations in a world-class environment.\n\n...and of course\, afterwards 
 we will go to Restaurant 1 of CERN to enjoy a round of refreshments and go
 od conversations.\n\nhttps://indico.cern.ch/event/796994/
LOCATION:CERN IdeaSquare
URL:https://indico.cern.ch/event/796994/
END:VEVENT
END:VCALENDAR
