BEGIN:VCALENDAR
VERSION:2.0
PRODID:-//CERN//INDICO//EN
BEGIN:VEVENT
SUMMARY:EM-U #78: How to make an environmental impact in a big company
DTSTART:20190312T170000Z
DTEND:20190312T180000Z
DTSTAMP:20230922T233547Z
UID:indico-event-804331@indico.cern.ch
DESCRIPTION:Have you ever thought about quitting your day job to follow yo
 ur passion and make a difference?  \n\nThis week's EM-U speaker certainly
  has. Pierandrea Quarta has worked in big consumer goods multinationals fo
 r 10 years\, his latest role was global brand manager of Head&Shoulders wh
 ere he was the intrapreneur behind the first bottle ever made with plastic
  collected in the ocean (youtu.be/CS6bJwZ0Kdk). Now he has left the compan
 y to follow his quest to help solve the problem of plastic waste\, this ti
 me as an entrepreneur founding an ambitious social impact startup working 
 to develop the first smart bottle that cleans the ocean as you drink.\n\nC
 ome and learn about how to put sustainability on the radar of a big compan
 y\, how Pier made the first product announcement in the history of the Wor
 ld Economic Forum\, and most importantly learn how he is trying to use the
  power of technology to solve the problem of plastic waste.  \n\n..and of
  course\, afterwards we will go to Restaurant 1 of CERN to enjoy a round 
 of refreshments and good conversations.\n\n \n\nWant updates on entrepren
 eurship at CERN and invites to the next EM-Us? Sign up for the internal
  mailing list if you have a CERN account\, if not\, sign up for the exte
 rnal mailing list.\n\nhttps://indico.cern.ch/event/804331/
LOCATION:CERN IdeaSquare
URL:https://indico.cern.ch/event/804331/
END:VEVENT
END:VCALENDAR
